BEGIN:VCALENDAR
VERSION:2.0
PRODID:-//SV-Nikolausdorf/Beverbruch - ECPv6.15.20//NONSGML v1.0//EN
CALSCALE:GREGORIAN
METHOD:PUBLISH
X-WR-CALNAME:SV-Nikolausdorf/Beverbruch
X-ORIGINAL-URL:https://sv-nikolausdorf-beverbruch.de
X-WR-CALDESC:Veranstaltungen für SV-Nikolausdorf/Beverbruch
REFRESH-INTERVAL;VALUE=DURATION:PT1H
X-Robots-Tag:noindex
X-PUBLISHED-TTL:PT1H
BEGIN:VTIMEZONE
TZID:UTC
BEGIN:STANDARD
TZOFFSETFROM:+0000
TZOFFSETTO:+0000
TZNAME:UTC
DTSTART:20250101T000000
END:STANDARD
END:VTIMEZONE
BEGIN:VEVENT
DTSTART;TZID=UTC:20260426T100000
DTEND;TZID=UTC:20260426T150000
DTSTAMP:20260422T082833
CREATED:20260421T124128Z
LAST-MODIFIED:20260421T124128Z
UID:1895-1777197600-1777215600@sv-nikolausdorf-beverbruch.de
SUMMARY:Sparkassen Cup E-Jugend
DESCRIPTION:Am Sonntag\, den 26. April\, findet in Nikolausdorf der Sparkassen-Cup der E-Jugend statt. Ab 10:00 Uhr treten insgesamt 36 Mannschaften gegeneinander an und sorgen für spannenden Jugendfußball. Die Siegerehrung ist für 14:30 Uhr geplant. \nFür das leibliche Wohl ist selbstverständlich gesorgt – mit Pommes\, Bratwurst\, Softgetränken sowie Kaffee\, Kuchen und weiteren Snacks. \nKommt gerne vorbei und unterstützt die Teams vor Ort!Austragungsort: Oldenburger Straße 32\, 49681 Nikolausdorf \nVielen Dank für eure Unterstützung \n!
URL:https://sv-nikolausdorf-beverbruch.de/event/sparkassen-cup-e-jugend/
LOCATION:Sportplatz SV Nikolausdorf/Beverbruch\, Oldenburger Str. 32\, Nikolausdorf\, Niedersachsen\, 49681\, Germany
END:VEVENT
END:VCALENDAR